BEGIN:VCALENDAR
VERSION:2.0
PRODID:-//KK Rovinj - CP Rovigno - ECPv6.9.0//NONSGML v1.0//EN
CALSCALE:GREGORIAN
METHOD:PUBLISH
X-ORIGINAL-URL:https://kkrovinj.hr
X-WR-CALDESC:Events for KK Rovinj - CP Rovigno
REFRESH-INTERVAL;VALUE=DURATION:PT1H
X-Robots-Tag:noindex
X-PUBLISHED-TTL:PT1H
BEGIN:VTIMEZONE
TZID:Europe/Zagreb
BEGIN:DAYLIGHT
TZOFFSETFROM:+0100
TZOFFSETTO:+0200
TZNAME:CEST
DTSTART:20240331T010000
END:DAYLIGHT
BEGIN:STANDARD
TZOFFSETFROM:+0200
TZOFFSETTO:+0100
TZNAME:CET
DTSTART:20241027T010000
END:STANDARD
BEGIN:DAYLIGHT
TZOFFSETFROM:+0100
TZOFFSETTO:+0200
TZNAME:CEST
DTSTART:20250330T010000
END:DAYLIGHT
BEGIN:STANDARD
TZOFFSETFROM:+0200
TZOFFSETTO:+0100
TZNAME:CET
DTSTART:20251026T010000
END:STANDARD
END:VTIMEZONE
BEGIN:VEVENT
DTSTART;TZID=Europe/Zagreb:20241214T100000
DTEND;TZID=Europe/Zagreb:20241214T120000
DTSTAMP:20260420T003352
CREATED:20241210T211407Z
LAST-MODIFIED:20241210T211407Z
UID:4887-1734170400-1734177600@kkrovinj.hr
SUMMARY:U13 Dječaci   :::   KK Rovinj-Rovigno VS KK Rudar Labin
DESCRIPTION:
URL:https://kkrovinj.hr/event/u13-djecaci-kk-rovinj-rovigno-vs-kk-rudar-labin/
LOCATION:Dvorana Gymnasium\, Rovinj\, Rovinj\, Croatia (Local Name: Hrvatska)
CATEGORIES:Dječaci U13
END:VEVENT
BEGIN:VEVENT
DTSTART;TZID=Europe/Zagreb:20241214T120000
DTEND;TZID=Europe/Zagreb:20241214T140000
DTSTAMP:20260420T003352
CREATED:20241210T211539Z
LAST-MODIFIED:20241210T211539Z
UID:4889-1734177600-1734184800@kkrovinj.hr
SUMMARY:U17 Kadeti   :::   KK Rovinj-Rovigno VS KK Pula 1981
DESCRIPTION:
URL:https://kkrovinj.hr/event/u17-kadeti-kk-rovinj-rovigno-vs-kk-pula-1981/
LOCATION:Dvorana Gymnasium\, Rovinj\, Rovinj\, Croatia (Local Name: Hrvatska)
CATEGORIES:Kadeti U17
END:VEVENT
BEGIN:VEVENT
DTSTART;TZID=Europe/Zagreb:20241215T123000
DTEND;TZID=Europe/Zagreb:20241215T133000
DTSTAMP:20260420T003352
CREATED:20241209T083309Z
LAST-MODIFIED:20241209T083309Z
UID:4881-1734265800-1734269400@kkrovinj.hr
SUMMARY:U12 Dječaci   :::   KK Rovinj-Rovigno VS KK Roling
DESCRIPTION:Zagrebačka liga
URL:https://kkrovinj.hr/event/u12-djecaci-kk-rovinj-rovigno-vs-kk-roling/
LOCATION:Dom košarke Cedevita\, Zagreb
CATEGORIES:U12 Dječaci
END:VEVENT
BEGIN:VEVENT
DTSTART;TZID=Europe/Zagreb:20241215T133000
DTEND;TZID=Europe/Zagreb:20241215T143000
DTSTAMP:20260420T003352
CREATED:20241209T083502Z
LAST-MODIFIED:20241209T083502Z
UID:4884-1734269400-1734273000@kkrovinj.hr
SUMMARY:U12 Dječaci   :::   KK Rovinj-Rovigno VS KK Cedevita Junior
DESCRIPTION:
URL:https://kkrovinj.hr/event/u12-djecaci-kk-rovinj-rovigno-vs-kk-cedevita-junior/
LOCATION:Dom košarke Cedevita\, Zagreb
CATEGORIES:U12 Dječaci
END:VEVENT
BEGIN:VEVENT
DTSTART;TZID=Europe/Zagreb:20241215T160000
DTEND;TZID=Europe/Zagreb:20241215T170000
DTSTAMP:20260420T003352
CREATED:20241212T122655Z
LAST-MODIFIED:20241212T122655Z
UID:4902-1734278400-1734282000@kkrovinj.hr
SUMMARY:Seniori   :::   KK FSV Rijeka VS KK Rovinj-Rovigno
DESCRIPTION:
URL:https://kkrovinj.hr/event/seniori-kk-fsv-rijeka-vs-kk-rovinj-rovigno/
LOCATION:Rijeka
END:VEVENT
BEGIN:VEVENT
DTSTART;TZID=Europe/Zagreb:20241217T200000
DTEND;TZID=Europe/Zagreb:20241217T220000
DTSTAMP:20260420T003352
CREATED:20241216T190616Z
LAST-MODIFIED:20241216T190616Z
UID:4904-1734465600-1734472800@kkrovinj.hr
SUMMARY:Seniori   :::   KK Rovinj-Rovigno VS KK Kastav
DESCRIPTION:11. kolo A2 lige Zapad
URL:https://kkrovinj.hr/event/seniori-kk-rovinj-rovigno-vs-kk-kastav/
LOCATION:Dvorana Gymnasium\, Rovinj\, Rovinj\, Croatia (Local Name: Hrvatska)
CATEGORIES:Seniori
END:VEVENT
BEGIN:VEVENT
DTSTART;TZID=Europe/Zagreb:20241218T173000
DTEND;TZID=Europe/Zagreb:20241218T190000
DTSTAMP:20260420T003352
CREATED:20241216T190822Z
LAST-MODIFIED:20241216T190822Z
UID:4906-1734543000-1734548400@kkrovinj.hr
SUMMARY:U13 Dječaci   :::   KK Fažana VS KK Rovinj-Rovigno
DESCRIPTION:
URL:https://kkrovinj.hr/event/u13-djecaci-kk-fazana-vs-kk-rovinj-rovigno/
LOCATION:OŠ Fažana
CATEGORIES:Dječaci U13
END:VEVENT
BEGIN:VEVENT
DTSTART;TZID=Europe/Zagreb:20241218T190000
DTEND;TZID=Europe/Zagreb:20241218T210000
DTSTAMP:20260420T003352
CREATED:20241209T081542Z
LAST-MODIFIED:20241212T122527Z
UID:4879-1734548400-1734555600@kkrovinj.hr
SUMMARY:U13 djevojčice   :::   KK Poreč (dječaci) VS KK Rovinj-Rovigno (djevojčice)
DESCRIPTION:
URL:https://kkrovinj.hr/event/u13-djevojcice-kk-porec-djecaci-vs-kk-rovinj-rovigno-djevojcice/
LOCATION:Poreč
CATEGORIES:Djevojčice U13
END:VEVENT
BEGIN:VEVENT
DTSTART;TZID=Europe/Zagreb:20241221T110000
DTEND;TZID=Europe/Zagreb:20241221T123000
DTSTAMP:20260420T003352
CREATED:20241216T191630Z
LAST-MODIFIED:20241216T191630Z
UID:4913-1734778800-1734784200@kkrovinj.hr
SUMMARY:U13 Djevojčice   :::   KK Pazin (Cure) VS KK Rovinj-Rovigno (Cure)
DESCRIPTION:
URL:https://kkrovinj.hr/event/u13-djevojcice-kk-pazin-cure-vs-kk-rovinj-rovigno-cure/
LOCATION:ŠGSD Pazin\, Pazin\, Pazin\, Croatia (Local Name: Hrvatska)
CATEGORIES:Djevojčice U13
END:VEVENT
BEGIN:VEVENT
DTSTART;TZID=Europe/Zagreb:20250118T140000
DTEND;TZID=Europe/Zagreb:20250118T153000
DTSTAMP:20260420T003352
CREATED:20240118T130042Z
LAST-MODIFIED:20250117T203230Z
UID:4909-1737208800-1737214200@kkrovinj.hr
SUMMARY:U15 Predkadeti   :::   KK Rovinj-Rovigno VS KK Umag
DESCRIPTION:
URL:https://kkrovinj.hr/event/u15-predkadeti-kk-rovinj-rovigno-vs-kk-umag/
LOCATION:Dvorana Valbruna Rovinj
CATEGORIES:Predkadeti U15
END:VEVENT
BEGIN:VEVENT
DTSTART;TZID=Europe/Zagreb:20250118T160000
DTEND;TZID=Europe/Zagreb:20250118T173000
DTSTAMP:20260420T003352
CREATED:20250117T203747Z
LAST-MODIFIED:20250117T203747Z
UID:4918-1737216000-1737221400@kkrovinj.hr
SUMMARY:U13 Dječaci ::: KK Rovinj - Rovigno VS KK Pazin 1
DESCRIPTION:
URL:https://kkrovinj.hr/event/u13-djecaci-kk-rovinj-rovigno-vs-kk-pazin-1/
LOCATION:Dvorana Valbruna Rovinj
CATEGORIES:Dječaci U13
END:VEVENT
BEGIN:VEVENT
DTSTART;TZID=Europe/Zagreb:20250119T113000
DTEND;TZID=Europe/Zagreb:20250119T123000
DTSTAMP:20260420T003352
CREATED:20250117T204309Z
LAST-MODIFIED:20250117T204309Z
UID:4921-1737286200-1737289800@kkrovinj.hr
SUMMARY:U12 Dječaci ::: KK Vučići - KK Rovinj - Rovigno
DESCRIPTION:Zagrebačka liga
URL:https://kkrovinj.hr/event/u12-djecaci-kk-vucici-kk-rovinj-rovigno/
LOCATION:Dom košarke Cedevita\, Zagreb
CATEGORIES:U12 Dječaci
END:VEVENT
BEGIN:VEVENT
DTSTART;TZID=Europe/Zagreb:20250119T113000
DTEND;TZID=Europe/Zagreb:20250119T130000
DTSTAMP:20260420T003352
CREATED:20250118T221516Z
LAST-MODIFIED:20250118T221516Z
UID:4955-1737286200-1737291600@kkrovinj.hr
SUMMARY:Kadetkinje U17 ::: ŽKK Gospić - KK Rovinj - Rovigno
DESCRIPTION:
URL:https://kkrovinj.hr/event/kadetkinje-u17-zkk-gospic-kk-rovinj-rovigno/
LOCATION:SD Gospić\, Gospić\, Gospić\, Croatia (Local Name: Hrvatska)
CATEGORIES:Kadetkinje U17
END:VEVENT
BEGIN:VEVENT
DTSTART;TZID=Europe/Zagreb:20250119T120000
DTEND;TZID=Europe/Zagreb:20250119T130000
DTSTAMP:20260420T003352
CREATED:20250118T222026Z
LAST-MODIFIED:20250118T222158Z
UID:4961-1737288000-1737291600@kkrovinj.hr
SUMMARY:Djevojčice U12 ::: ŽKK Folka Borovje - KK Rovinj - Rovigno
DESCRIPTION:
URL:https://kkrovinj.hr/event/djevojcice-u12-zkk-folka-borovje-kk-rovinj-rovigno/
LOCATION:Dom košarke Cedevita\, Zagreb
CATEGORIES:Djevojčice U12
END:VEVENT
BEGIN:VEVENT
DTSTART;TZID=Europe/Zagreb:20250119T130000
DTEND;TZID=Europe/Zagreb:20250119T140000
DTSTAMP:20260420T003352
CREATED:20250118T222136Z
LAST-MODIFIED:20250118T222136Z
UID:4963-1737291600-1737295200@kkrovinj.hr
SUMMARY:Djevojčice U12 ::: KK Studio Zagreb - KK Rovinj - Rovigno
DESCRIPTION:
URL:https://kkrovinj.hr/event/djevojcice-u12-kk-studio-zagreb-kk-rovinj-rovigno/
LOCATION:Dom košarke Cedevita\, Zagreb
CATEGORIES:Djevojčice U12
END:VEVENT
BEGIN:VEVENT
DTSTART;TZID=Europe/Zagreb:20250119T133000
DTEND;TZID=Europe/Zagreb:20250119T143000
DTSTAMP:20260420T003352
CREATED:20250118T221843Z
LAST-MODIFIED:20250118T222250Z
UID:4959-1737293400-1737297000@kkrovinj.hr
SUMMARY:Dječaci U12 ::: KK Larus - KK Rovinj - Rovigno
DESCRIPTION:
URL:https://kkrovinj.hr/event/djecaci-u12-kk-larus-kk-rovinj-rovigno/
LOCATION:Dom košarke Cedevita\, Zagreb
CATEGORIES:U12 Dječaci
END:VEVENT
BEGIN:VEVENT
DTSTART;TZID=Europe/Zagreb:20250119T140000
DTEND;TZID=Europe/Zagreb:20250119T153000
DTSTAMP:20260420T003352
CREATED:20250118T221232Z
LAST-MODIFIED:20250118T221354Z
UID:4950-1737295200-1737300600@kkrovinj.hr
SUMMARY:Kadeti U17 ::: KK Gospić - KK Rovinj - Rovigno
DESCRIPTION:
URL:https://kkrovinj.hr/event/kadeti-u17-kk-gospic-kk-rovinj/
LOCATION:SD Gospić\, Gospić\, Gospić\, Croatia (Local Name: Hrvatska)
CATEGORIES:Kadeti U17
END:VEVENT
BEGIN:VEVENT
DTSTART;TZID=Europe/Zagreb:20250122T183000
DTEND;TZID=Europe/Zagreb:20250122T200000
DTSTAMP:20260420T003352
CREATED:20250121T010439Z
LAST-MODIFIED:20250121T010439Z
UID:4981-1737570600-1737576000@kkrovinj.hr
SUMMARY:JR. NBA ::: Brooklyn Nets (Nazor) - New York Knicks (Dobrila)
DESCRIPTION:
URL:https://kkrovinj.hr/event/jr-nba-brooklyn-nets-nazor-new-york-knicks-dobrila/
LOCATION:Dvorana Gymnasium\, Rovinj\, Rovinj\, Croatia (Local Name: Hrvatska)
CATEGORIES:Jr. NBA
END:VEVENT
BEGIN:VEVENT
DTSTART;TZID=Europe/Zagreb:20250125T100000
DTEND;TZID=Europe/Zagreb:20250125T120000
DTSTAMP:20260420T003352
CREATED:20250122T011320Z
LAST-MODIFIED:20250122T011320Z
UID:4998-1737799200-1737806400@kkrovinj.hr
SUMMARY:Jr. NBA ::: turnir u Rovinju
DESCRIPTION:Teren 1: \n10:00  New York Knicks (Jurja Dobrile\, Rovinj) – Toronto Raptors (OŠ Srdoči\, Rijeka) \n11:00  New York Knicks (Jurja Dobrile\, Rovinj) – Philadelphia 76ers (OŠ Vladimira Nazora\, Pazin) \nTeren 3: \n10:00  Brooklyn Nets (OŠ Vladimira Nazora\, Rovinj) – Philadelphia 76ers (OŠ Vladimira Nazora\, Pazin) \n11:00  Brooklyn Nets (OŠ Vladimira Nazora\, Rovinj) – Toronto Raptors (OŠ Srdoči\, Rijeka)
URL:https://kkrovinj.hr/event/jr-nba-turnir-u-rovinju/
LOCATION:Dvorana Gymnasium\, Rovinj\, Rovinj\, Croatia (Local Name: Hrvatska)
CATEGORIES:Jr. NBA
END:VEVENT
BEGIN:VEVENT
DTSTART;TZID=Europe/Zagreb:20250125T120000
DTEND;TZID=Europe/Zagreb:20250125T133000
DTSTAMP:20260420T003352
CREATED:20250121T010909Z
LAST-MODIFIED:20250121T010909Z
UID:4985-1737806400-1737811800@kkrovinj.hr
SUMMARY:ZG Liga kadeta ::: KK Ivanić - KK Rovinj - Rovigno
DESCRIPTION:
URL:https://kkrovinj.hr/event/zg-liga-kadeta-kk-ivanic-kk-rovinj-rovigno/
LOCATION:SD Žeravinec\, Ivanić\, Ivanić\, Croatia (Local Name: Hrvatska)
CATEGORIES:Kadeti U17
END:VEVENT
BEGIN:VEVENT
DTSTART;TZID=Europe/Zagreb:20250125T123000
DTEND;TZID=Europe/Zagreb:20250125T140000
DTSTAMP:20260420T003352
CREATED:20250121T084333Z
LAST-MODIFIED:20250122T011544Z
UID:4996-1737808200-1737813600@kkrovinj.hr
SUMMARY:Djevojčice U13 ::: KK Rovinj -Rovigno - KK Pazin
DESCRIPTION:
URL:https://kkrovinj.hr/event/djevojcice-u13-kk-rovinj-rovigno-kk-pazin/
LOCATION:Dvorana Gymnasium\, Rovinj\, Rovinj\, Croatia (Local Name: Hrvatska)
CATEGORIES:Djevojčice U13
END:VEVENT
BEGIN:VEVENT
DTSTART;TZID=Europe/Zagreb:20250125T161500
DTEND;TZID=Europe/Zagreb:20250125T180000
DTSTAMP:20260420T003352
CREATED:20250121T011122Z
LAST-MODIFIED:20250121T011122Z
UID:4988-1737821700-1737828000@kkrovinj.hr
SUMMARY:ZG Liga kadeta ::: KK Podsused 2 - KK Rovinj - Rovigno
DESCRIPTION:
URL:https://kkrovinj.hr/event/zg-liga-kadeta-kk-podsused-2-kk-rovinj-rovigno/
LOCATION:SD I. Arapovića\, Zagreb\, Zagreb\, Croatia (Local Name: Hrvatska)
CATEGORIES:Kadeti U17
END:VEVENT
BEGIN:VEVENT
DTSTART;TZID=Europe/Zagreb:20250125T180000
DTEND;TZID=Europe/Zagreb:20250125T200000
DTSTAMP:20260420T003352
CREATED:20250121T011503Z
LAST-MODIFIED:20250121T011503Z
UID:4994-1737828000-1737835200@kkrovinj.hr
SUMMARY:Seniori ::: KK Rovinj - Rovigno - KK Krk
DESCRIPTION:
URL:https://kkrovinj.hr/event/seniori-kk-rovinj-rovigno-kk-krk/
LOCATION:Dvorana Gymnasium\, Rovinj\, Rovinj\, Croatia (Local Name: Hrvatska)
CATEGORIES:Seniori
END:VEVENT
BEGIN:VEVENT
DTSTART;TZID=Europe/Zagreb:20250201T110000
DTEND;TZID=Europe/Zagreb:20250201T130000
DTSTAMP:20260420T003352
CREATED:20250128T213153Z
LAST-MODIFIED:20250128T213153Z
UID:5430-1738407600-1738414800@kkrovinj.hr
SUMMARY:Dječaci U13 ::: KK Rovinj Cure - KK Rudar Labin
DESCRIPTION:
URL:https://kkrovinj.hr/event/djecaci-u13-kk-rovinj-cure-kk-rudar-labin/
LOCATION:Dvorana Gymnasium\, Rovinj\, Rovinj\, Croatia (Local Name: Hrvatska)
CATEGORIES:Dječaci U13
END:VEVENT
BEGIN:VEVENT
DTSTART;TZID=Europe/Zagreb:20250201T143000
DTEND;TZID=Europe/Zagreb:20250201T163000
DTSTAMP:20260420T003352
CREATED:20250128T212826Z
LAST-MODIFIED:20250128T212826Z
UID:5426-1738420200-1738427400@kkrovinj.hr
SUMMARY:Dječaci U13 ::: KK Pazin 2 - KK Rovinj - Rovigno
DESCRIPTION:
URL:https://kkrovinj.hr/event/djecaci-u13-kk-pazin-2-kk-rovinj-rovigno/
LOCATION:ŠGSD Pazin\, Pazin\, Pazin\, Croatia (Local Name: Hrvatska)
CATEGORIES:Dječaci U13
END:VEVENT
BEGIN:VEVENT
DTSTART;TZID=Europe/Zagreb:20250202T123000
DTEND;TZID=Europe/Zagreb:20250202T143000
DTSTAMP:20260420T003352
CREATED:20250129T111332Z
LAST-MODIFIED:20250129T111332Z
UID:5448-1738499400-1738506600@kkrovinj.hr
SUMMARY:Djevojčice U13 ::: KK Novigrad - KK Rovinj - Rovigno
DESCRIPTION:
URL:https://kkrovinj.hr/event/djevojcice-u13-kk-novigrad-kk-rovinj-rovigno/
LOCATION:SD Novigrad\, Novigrad\, Novigrad\, Croatia (Local Name: Hrvatska)
CATEGORIES:Djevojčice U13
END:VEVENT
BEGIN:VEVENT
DTSTART;TZID=Europe/Zagreb:20250202T153000
DTEND;TZID=Europe/Zagreb:20250202T173000
DTSTAMP:20260420T003352
CREATED:20250128T213408Z
LAST-MODIFIED:20250128T213408Z
UID:5432-1738510200-1738517400@kkrovinj.hr
SUMMARY:Jr. NBA ::: Turnir u Pazinu
DESCRIPTION:
URL:https://kkrovinj.hr/event/jr-nba-turnir-u-pazinu/
LOCATION:ŠGSD Pazin\, Pazin\, Pazin\, Croatia (Local Name: Hrvatska)
CATEGORIES:Jr. NBA
END:VEVENT
BEGIN:VEVENT
DTSTART;TZID=Europe/Zagreb:20250202T203000
DTEND;TZID=Europe/Zagreb:20250202T223000
DTSTAMP:20260420T003352
CREATED:20250128T212345Z
LAST-MODIFIED:20250128T212345Z
UID:5423-1738528200-1738535400@kkrovinj.hr
SUMMARY:Seniori ::: KK Adria - KK Rovinj - Rovigno
DESCRIPTION:
URL:https://kkrovinj.hr/event/seniori-kk-adria-kk-rovinj-rovigno/
LOCATION:SD Finida\, Poreč\, Poreč\, Croatia (Local Name: Hrvatska)
CATEGORIES:Seniori
END:VEVENT
BEGIN:VEVENT
DTSTART;TZID=Europe/Zagreb:20250205T190000
DTEND;TZID=Europe/Zagreb:20250205T210000
DTSTAMP:20260420T003352
CREATED:20250202T185453Z
LAST-MODIFIED:20250204T223137Z
UID:5451-1738782000-1738789200@kkrovinj.hr
SUMMARY:U13 dječaci   :::   KK Fažana VS KK Rovinj-Rovigno (Cure)
DESCRIPTION:
URL:https://kkrovinj.hr/event/u13-djecaci-kk-fazana-vs-kk-rovinj-rovigno-cure/
LOCATION:OŠ Fažana
CATEGORIES:Dječaci U13
END:VEVENT
BEGIN:VEVENT
DTSTART;TZID=Europe/Zagreb:20250208T130000
DTEND;TZID=Europe/Zagreb:20250208T143000
DTSTAMP:20260420T003352
CREATED:20250128T213854Z
LAST-MODIFIED:20250211T131101Z
UID:5434-1739019600-1739025000@kkrovinj.hr
SUMMARY:LWB Liga pretkadetkinje U15 ::: KK Karnten - KK Rovinj - Rovigno
DESCRIPTION:
URL:https://kkrovinj.hr/event/lwb-liga-pretkadetkinje-u15-turnir-zasavje-slovenija/
LOCATION:ŠD Polaj\, Trbovlje\, Trbovlje\, Croatia (Local Name: Hrvatska)
CATEGORIES:Predkadetkinje U15
END:VEVENT
END:VCALENDAR