BEGIN:VCALENDAR
VERSION:2.0
PRODID:-//KK Rovinj - CP Rovigno - ECPv6.9.0//NONSGML v1.0//EN
CALSCALE:GREGORIAN
METHOD:PUBLISH
X-WR-CALNAME:KK Rovinj - CP Rovigno
X-ORIGINAL-URL:https://kkrovinj.hr
X-WR-CALDESC:Events for KK Rovinj - CP Rovigno
REFRESH-INTERVAL;VALUE=DURATION:PT1H
X-Robots-Tag:noindex
X-PUBLISHED-TTL:PT1H
BEGIN:VTIMEZONE
TZID:Europe/Zagreb
BEGIN:DAYLIGHT
TZOFFSETFROM:+0100
TZOFFSETTO:+0200
TZNAME:CEST
DTSTART:20250330T010000
END:DAYLIGHT
BEGIN:STANDARD
TZOFFSETFROM:+0200
TZOFFSETTO:+0100
TZNAME:CET
DTSTART:20251026T010000
END:STANDARD
END:VTIMEZONE
BEGIN:VEVENT
DTSTART;TZID=Europe/Zagreb:20250403T181500
DTEND;TZID=Europe/Zagreb:20250403T193000
DTSTAMP:20260420T031534
CREATED:20250401T165728Z
LAST-MODIFIED:20250401T165728Z
UID:5785-1743704100-1743708600@kkrovinj.hr
SUMMARY:Pretkadeti U15 ::: KK Rovinj - Rovigno - KK Pazin
DESCRIPTION:
URL:https://kkrovinj.hr/event/pretkadeti-u15-kk-rovinj-rovigno-kk-pazin/
LOCATION:Dvorana Gymnasium\, Rovinj\, Rovinj\, Croatia (Local Name: Hrvatska)
CATEGORIES:Predkadeti U15
END:VEVENT
BEGIN:VEVENT
DTSTART;TZID=Europe/Zagreb:20250406T150000
DTEND;TZID=Europe/Zagreb:20250406T163000
DTSTAMP:20260420T031534
CREATED:20250402T082630Z
LAST-MODIFIED:20250402T082630Z
UID:5795-1743951600-1743957000@kkrovinj.hr
SUMMARY:Kadeti U17 ::: KK Rovinj - Rovigno - KK Stoja
DESCRIPTION:
URL:https://kkrovinj.hr/event/kadeti-u17-kk-rovinj-rovigno-kk-stoja/
LOCATION:Dvorana Gymnasium\, Rovinj\, Rovinj\, Croatia (Local Name: Hrvatska)
CATEGORIES:Kadeti U17
END:VEVENT
END:VCALENDAR