BEGIN:VCALENDAR
VERSION:2.0
PRODID:-//KK Rovinj - CP Rovigno - ECPv6.9.0//NONSGML v1.0//EN
CALSCALE:GREGORIAN
METHOD:PUBLISH
X-WR-CALNAME:KK Rovinj - CP Rovigno
X-ORIGINAL-URL:https://kkrovinj.hr
X-WR-CALDESC:Events for KK Rovinj - CP Rovigno
REFRESH-INTERVAL;VALUE=DURATION:PT1H
X-Robots-Tag:noindex
X-PUBLISHED-TTL:PT1H
BEGIN:VTIMEZONE
TZID:Europe/Zagreb
BEGIN:DAYLIGHT
TZOFFSETFROM:+0100
TZOFFSETTO:+0200
TZNAME:CEST
DTSTART:20250330T010000
END:DAYLIGHT
BEGIN:STANDARD
TZOFFSETFROM:+0200
TZOFFSETTO:+0100
TZNAME:CET
DTSTART:20251026T010000
END:STANDARD
END:VTIMEZONE
BEGIN:VEVENT
DTSTART;TZID=Europe/Zagreb:20250330T130000
DTEND;TZID=Europe/Zagreb:20250330T140000
DTSTAMP:20260420T013631
CREATED:20250402T082252Z
LAST-MODIFIED:20250402T082252Z
UID:5789-1743339600-1743343200@kkrovinj.hr
SUMMARY:Dječaci U12 ::: KK Dinamo Zagreb - KK Rovinj - Rovigno
DESCRIPTION:
URL:https://kkrovinj.hr/event/djecaci-u12-kk-dinamo-zagreb-kk-rovinj-rovigno/
LOCATION:Dom košarke Cedevita\, Zagreb
CATEGORIES:U12 Dječaci
END:VEVENT
BEGIN:VEVENT
DTSTART;TZID=Europe/Zagreb:20250330T131500
DTEND;TZID=Europe/Zagreb:20250330T140000
DTSTAMP:20260420T013631
CREATED:20250402T082517Z
LAST-MODIFIED:20250402T082517Z
UID:5793-1743340500-1743343200@kkrovinj.hr
SUMMARY:Djevojčice U12 ::: KK Trešnjevka 2009 - KK Rovinj - Rovigno
DESCRIPTION:
URL:https://kkrovinj.hr/event/djevojcice-u12-kk-tresnjevka-2009-kk-rovinj-rovigno/
LOCATION:Dom košarke Cedevita\, Zagreb
CATEGORIES:Djevojčice U12
END:VEVENT
BEGIN:VEVENT
DTSTART;TZID=Europe/Zagreb:20250330T141500
DTEND;TZID=Europe/Zagreb:20250330T150000
DTSTAMP:20260420T013631
CREATED:20250402T082407Z
LAST-MODIFIED:20250402T082407Z
UID:5791-1743344100-1743346800@kkrovinj.hr
SUMMARY:Dječaci U12 ::: KK Pešća - KK Rovinj - Rovigno
DESCRIPTION:
URL:https://kkrovinj.hr/event/djecaci-u12-kk-pesca-kk-rovinj-rovigno/
LOCATION:Dom košarke Cedevita\, Zagreb
CATEGORIES:U12 Dječaci
END:VEVENT
END:VCALENDAR