BEGIN:VCALENDAR
VERSION:2.0
PRODID:-//KK Rovinj - CP Rovigno - ECPv6.9.0//NONSGML v1.0//EN
CALSCALE:GREGORIAN
METHOD:PUBLISH
X-WR-CALNAME:KK Rovinj - CP Rovigno
X-ORIGINAL-URL:https://kkrovinj.hr
X-WR-CALDESC:Events for KK Rovinj - CP Rovigno
REFRESH-INTERVAL;VALUE=DURATION:PT1H
X-Robots-Tag:noindex
X-PUBLISHED-TTL:PT1H
BEGIN:VTIMEZONE
TZID:Europe/Zagreb
BEGIN:DAYLIGHT
TZOFFSETFROM:+0100
TZOFFSETTO:+0200
TZNAME:CEST
DTSTART:20250330T010000
END:DAYLIGHT
BEGIN:STANDARD
TZOFFSETFROM:+0200
TZOFFSETTO:+0100
TZNAME:CET
DTSTART:20251026T010000
END:STANDARD
END:VTIMEZONE
BEGIN:VEVENT
DTSTART;TZID=Europe/Zagreb:20250329T100000
DTEND;TZID=Europe/Zagreb:20250329T110000
DTSTAMP:20260420T013602
CREATED:20250401T165230Z
LAST-MODIFIED:20250401T165230Z
UID:5776-1743242400-1743246000@kkrovinj.hr
SUMMARY:U9 ::: KK Pazin 1 - KK Rovinj - Rovigno
DESCRIPTION:
URL:https://kkrovinj.hr/event/u9-kk-pazin-1-kk-rovinj-rovigno/
LOCATION:Školska dvorana Vodnjan\, Vodnjan
CATEGORIES:U9
END:VEVENT
BEGIN:VEVENT
DTSTART;TZID=Europe/Zagreb:20250329T110000
DTEND;TZID=Europe/Zagreb:20250329T120000
DTSTAMP:20260420T013602
CREATED:20250401T165326Z
LAST-MODIFIED:20250401T165326Z
UID:5778-1743246000-1743249600@kkrovinj.hr
SUMMARY:U9 ::: KK Oliva - KK Rovinj - Rovigno
DESCRIPTION:
URL:https://kkrovinj.hr/event/u9-kk-oliva-kk-rovinj-rovigno/
LOCATION:Školska dvorana Vodnjan\, Vodnjan
CATEGORIES:U9
END:VEVENT
BEGIN:VEVENT
DTSTART;TZID=Europe/Zagreb:20250329T120000
DTEND;TZID=Europe/Zagreb:20250329T140000
DTSTAMP:20260420T013602
CREATED:20250401T165513Z
LAST-MODIFIED:20250401T165513Z
UID:5780-1743249600-1743256800@kkrovinj.hr
SUMMARY:Kadeti U17 ::: KK Rovinj - Rovigno - KK Duga Resa
DESCRIPTION:
URL:https://kkrovinj.hr/event/kadeti-u17-kk-rovinj-rovigno-kk-duga-resa/
LOCATION:SD Bale\, Bale\, Bale\, Croatia (Local Name: Hrvatska)
CATEGORIES:Kadeti U17
END:VEVENT
BEGIN:VEVENT
DTSTART;TZID=Europe/Zagreb:20250329T180000
DTEND;TZID=Europe/Zagreb:20250329T200000
DTSTAMP:20260420T013602
CREATED:20250401T165850Z
LAST-MODIFIED:20250401T165850Z
UID:5787-1743271200-1743278400@kkrovinj.hr
SUMMARY:Seniori ::: KK Rovinj - Rovigno - KK FSV
DESCRIPTION:
URL:https://kkrovinj.hr/event/seniori-kk-rovinj-rovigno-kk-fsv/
LOCATION:Dvorana Gymnasium\, Rovinj\, Rovinj\, Croatia (Local Name: Hrvatska)
CATEGORIES:Seniori
END:VEVENT
END:VCALENDAR