BEGIN:VCALENDAR
VERSION:2.0
PRODID:-//KK Rovinj - CP Rovigno - ECPv6.9.0//NONSGML v1.0//EN
CALSCALE:GREGORIAN
METHOD:PUBLISH
X-ORIGINAL-URL:https://kkrovinj.hr
X-WR-CALDESC:Events for KK Rovinj - CP Rovigno
REFRESH-INTERVAL;VALUE=DURATION:PT1H
X-Robots-Tag:noindex
X-PUBLISHED-TTL:PT1H
BEGIN:VTIMEZONE
TZID:Europe/Zagreb
BEGIN:DAYLIGHT
TZOFFSETFROM:+0100
TZOFFSETTO:+0200
TZNAME:CEST
DTSTART:20250330T010000
END:DAYLIGHT
BEGIN:STANDARD
TZOFFSETFROM:+0200
TZOFFSETTO:+0100
TZNAME:CET
DTSTART:20251026T010000
END:STANDARD
END:VTIMEZONE
BEGIN:VEVENT
DTSTART;TZID=Europe/Zagreb:20250316T120000
DTEND;TZID=Europe/Zagreb:20250316T140000
DTSTAMP:20260420T015825
CREATED:20250312T123832Z
LAST-MODIFIED:20250312T123832Z
UID:5706-1742126400-1742133600@kkrovinj.hr
SUMMARY:Kadeti U17 ::: KK Rovinj - Rovigno - KK Oliva
DESCRIPTION:
URL:https://kkrovinj.hr/event/kadeti-u17-kk-rovinj-rovigno-kk-oliva/
LOCATION:Dvorana Gymnasium\, Rovinj\, Rovinj\, Croatia (Local Name: Hrvatska)
CATEGORIES:Kadeti U17
END:VEVENT
BEGIN:VEVENT
DTSTART;TZID=Europe/Zagreb:20250316T121500
DTEND;TZID=Europe/Zagreb:20250316T131500
DTSTAMP:20260420T015825
CREATED:20250312T123418Z
LAST-MODIFIED:20250312T123418Z
UID:5698-1742127300-1742130900@kkrovinj.hr
SUMMARY:Dječaci U12 ::: KK Novi Zagreb - KK Rovinj - Rovigno
DESCRIPTION:
URL:https://kkrovinj.hr/event/djecaci-u12-kk-novi-zagreb-kk-rovinj-rovigno/
LOCATION:Dom košarke Cedevita\, Zagreb
CATEGORIES:U12 Dječaci
END:VEVENT
BEGIN:VEVENT
DTSTART;TZID=Europe/Zagreb:20250316T121500
DTEND;TZID=Europe/Zagreb:20250316T131500
DTSTAMP:20260420T015825
CREATED:20250312T123651Z
LAST-MODIFIED:20250312T123651Z
UID:5702-1742127300-1742130900@kkrovinj.hr
SUMMARY:Djevojčice U12 ::: ŽKK Karlovac - KK Rovinj - Rovigno
DESCRIPTION:
URL:https://kkrovinj.hr/event/djevojcice-u12-zkk-karlovac-kk-rovinj-rovigno/
LOCATION:Dom košarke Cedevita\, Zagreb
CATEGORIES:Djevojčice U12
END:VEVENT
BEGIN:VEVENT
DTSTART;TZID=Europe/Zagreb:20250316T131500
DTEND;TZID=Europe/Zagreb:20250316T141500
DTSTAMP:20260420T015825
CREATED:20250312T123531Z
LAST-MODIFIED:20250312T123531Z
UID:5700-1742130900-1742134500@kkrovinj.hr
SUMMARY:Dječaci U12 ::: KK Zapad - KK Rovinj - Rovigno
DESCRIPTION:
URL:https://kkrovinj.hr/event/djecaci-u12-kk-zapad-kk-rovinj-rovigno/
LOCATION:Dom košarke Cedevita\, Zagreb
CATEGORIES:U12 Dječaci
END:VEVENT
BEGIN:VEVENT
DTSTART;TZID=Europe/Zagreb:20250316T131500
DTEND;TZID=Europe/Zagreb:20250316T141500
DTSTAMP:20260420T015825
CREATED:20250312T123744Z
LAST-MODIFIED:20250312T123744Z
UID:5704-1742130900-1742134500@kkrovinj.hr
SUMMARY:Djevojčice U12 ::: ŽKK Orka - KK Rovinj - Rovigno
DESCRIPTION:
URL:https://kkrovinj.hr/event/djevojcice-u12-zkk-orka-kk-rovinj-rovigno/
LOCATION:Dom košarke Cedevita\, Zagreb
CATEGORIES:Djevojčice U12
END:VEVENT
END:VCALENDAR