BEGIN:VCALENDAR
VERSION:2.0
PRODID:-//KK Rovinj - CP Rovigno - ECPv6.9.0//NONSGML v1.0//EN
CALSCALE:GREGORIAN
METHOD:PUBLISH
X-ORIGINAL-URL:https://kkrovinj.hr
X-WR-CALDESC:Events for KK Rovinj - CP Rovigno
REFRESH-INTERVAL;VALUE=DURATION:PT1H
X-Robots-Tag:noindex
X-PUBLISHED-TTL:PT1H
BEGIN:VTIMEZONE
TZID:Europe/Zagreb
BEGIN:DAYLIGHT
TZOFFSETFROM:+0100
TZOFFSETTO:+0200
TZNAME:CEST
DTSTART:20250330T010000
END:DAYLIGHT
BEGIN:STANDARD
TZOFFSETFROM:+0200
TZOFFSETTO:+0100
TZNAME:CET
DTSTART:20251026T010000
END:STANDARD
END:VTIMEZONE
BEGIN:VEVENT
DTSTART;VALUE=DATE:20250309
DTEND;VALUE=DATE:20250310
DTSTAMP:20260420T015833
CREATED:20250307T215320Z
LAST-MODIFIED:20250307T215320Z
UID:5649-1741478400-1741564799@kkrovinj.hr
SUMMARY:Jr. NBA liga ::: Final four
DESCRIPTION:
URL:https://kkrovinj.hr/event/jr-nba-liga-final-four/
LOCATION:Dvorana Gymnasium\, Rovinj\, Rovinj\, Croatia (Local Name: Hrvatska)
CATEGORIES:Jr. NBA
END:VEVENT
BEGIN:VEVENT
DTSTART;VALUE=DATE:20250309
DTEND;VALUE=DATE:20250310
DTSTAMP:20260420T015833
CREATED:20250307T215533Z
LAST-MODIFIED:20250307T215533Z
UID:5651-1741478400-1741564799@kkrovinj.hr
SUMMARY:Djevojčice U12 ::: Women`s day tournament Ilirska Bistrica
DESCRIPTION:
URL:https://kkrovinj.hr/event/djevojcice-u12-womens-day-tournament-ilirska-bistrica/
LOCATION:Ilirska Bistrica\, Slovenija\, Ilirska Bistrica\, Slovenia
CATEGORIES:Djevojčice U12
END:VEVENT
BEGIN:VEVENT
DTSTART;TZID=Europe/Zagreb:20250309T160000
DTEND;TZID=Europe/Zagreb:20250309T180000
DTSTAMP:20260420T015833
CREATED:20250307T215627Z
LAST-MODIFIED:20250307T215627Z
UID:5654-1741536000-1741543200@kkrovinj.hr
SUMMARY:Dječaci U13 ::: KK Rovinj - Rovigno - KK Umag
DESCRIPTION:
URL:https://kkrovinj.hr/event/djecaci-u13-kk-rovinj-rovigno-kk-umag/
LOCATION:Dvorana Gymnasium\, Rovinj\, Rovinj\, Croatia (Local Name: Hrvatska)
CATEGORIES:Dječaci U13
END:VEVENT
BEGIN:VEVENT
DTSTART;TZID=Europe/Zagreb:20250309T180000
DTEND;TZID=Europe/Zagreb:20250309T200000
DTSTAMP:20260420T015833
CREATED:20250307T215733Z
LAST-MODIFIED:20250307T215733Z
UID:5656-1741543200-1741550400@kkrovinj.hr
SUMMARY:Kadeti U17 ::: KK Rovinj - Rovigno - KK Pazin
DESCRIPTION:
URL:https://kkrovinj.hr/event/kadeti-u17-kk-rovinj-rovigno-kk-pazin/
LOCATION:Dvorana Gymnasium\, Rovinj\, Rovinj\, Croatia (Local Name: Hrvatska)
CATEGORIES:Kadeti U17
END:VEVENT
END:VCALENDAR