BEGIN:VCALENDAR
VERSION:2.0
PRODID:-//KK Rovinj - CP Rovigno - ECPv6.9.0//NONSGML v1.0//EN
CALSCALE:GREGORIAN
METHOD:PUBLISH
X-ORIGINAL-URL:https://kkrovinj.hr
X-WR-CALDESC:Events for KK Rovinj - CP Rovigno
REFRESH-INTERVAL;VALUE=DURATION:PT1H
X-Robots-Tag:noindex
X-PUBLISHED-TTL:PT1H
BEGIN:VTIMEZONE
TZID:Europe/Zagreb
BEGIN:DAYLIGHT
TZOFFSETFROM:+0100
TZOFFSETTO:+0200
TZNAME:CEST
DTSTART:20250330T010000
END:DAYLIGHT
BEGIN:STANDARD
TZOFFSETFROM:+0200
TZOFFSETTO:+0100
TZNAME:CET
DTSTART:20251026T010000
END:STANDARD
END:VTIMEZONE
BEGIN:VEVENT
DTSTART;TZID=Europe/Zagreb:20250228T210000
DTEND;TZID=Europe/Zagreb:20250228T230000
DTSTAMP:20260420T015825
CREATED:20250227T164015Z
LAST-MODIFIED:20250227T164015Z
UID:5612-1740776400-1740783600@kkrovinj.hr
SUMMARY:Seniori ::: KK Rudar Labin - KK Rovinj - Rovigno
DESCRIPTION:
URL:https://kkrovinj.hr/event/seniori-kk-rudar-labin-kk-rovinj-rovigno/
LOCATION:Sportski centar “Franko Mileta”\, Labin\, Labin\, Croatia (Local Name: Hrvatska)
CATEGORIES:Seniori
END:VEVENT
END:VCALENDAR