BEGIN:VCALENDAR
VERSION:2.0
PRODID:-//KK Rovinj - CP Rovigno - ECPv6.9.0//NONSGML v1.0//EN
CALSCALE:GREGORIAN
METHOD:PUBLISH
X-ORIGINAL-URL:https://kkrovinj.hr
X-WR-CALDESC:Events for KK Rovinj - CP Rovigno
REFRESH-INTERVAL;VALUE=DURATION:PT1H
X-Robots-Tag:noindex
X-PUBLISHED-TTL:PT1H
BEGIN:VTIMEZONE
TZID:Europe/Zagreb
BEGIN:DAYLIGHT
TZOFFSETFROM:+0100
TZOFFSETTO:+0200
TZNAME:CEST
DTSTART:20250330T010000
END:DAYLIGHT
BEGIN:STANDARD
TZOFFSETFROM:+0200
TZOFFSETTO:+0100
TZNAME:CET
DTSTART:20251026T010000
END:STANDARD
END:VTIMEZONE
BEGIN:VEVENT
DTSTART;TZID=Europe/Zagreb:20250222T150000
DTEND;TZID=Europe/Zagreb:20250222T160000
DTSTAMP:20260420T001653
CREATED:20250219T143657Z
LAST-MODIFIED:20250219T143657Z
UID:5575-1740236400-1740240000@kkrovinj.hr
SUMMARY:Jr. NBA ::: NY Knicks - 76ers
DESCRIPTION:
URL:https://kkrovinj.hr/event/jr-nba-ny-knicks-76ers/
LOCATION:Sv. Filip i Jakov\, Croatia (Local Name: Hrvatska)
CATEGORIES:Jr. NBA
END:VEVENT
BEGIN:VEVENT
DTSTART;TZID=Europe/Zagreb:20250222T170000
DTEND;TZID=Europe/Zagreb:20250222T180000
DTSTAMP:20260420T001653
CREATED:20250219T143754Z
LAST-MODIFIED:20250219T143754Z
UID:5578-1740243600-1740247200@kkrovinj.hr
SUMMARY:Jr. NBA ::: 76ers - NY Knicks
DESCRIPTION:
URL:https://kkrovinj.hr/event/jr-nba-76ers-ny-knicks/
LOCATION:Sv. Filip i Jakov\, Croatia (Local Name: Hrvatska)
CATEGORIES:Jr. NBA
END:VEVENT
BEGIN:VEVENT
DTSTART;TZID=Europe/Zagreb:20250222T180000
DTEND;TZID=Europe/Zagreb:20250222T200000
DTSTAMP:20260420T001653
CREATED:20250219T143507Z
LAST-MODIFIED:20250219T143507Z
UID:5573-1740247200-1740254400@kkrovinj.hr
SUMMARY:Seniori ::: KK Rovinj - Rovigno - KK Kraljevica
DESCRIPTION:
URL:https://kkrovinj.hr/event/seniori-kk-rovinj-rovigno-kk-kraljevica/
LOCATION:Dvorana Gymnasium\, Rovinj\, Rovinj\, Croatia (Local Name: Hrvatska)
CATEGORIES:Seniori
END:VEVENT
END:VCALENDAR