BEGIN:VCALENDAR
VERSION:2.0
PRODID:-//KK Rovinj - CP Rovigno - ECPv6.9.0//NONSGML v1.0//EN
CALSCALE:GREGORIAN
METHOD:PUBLISH
X-ORIGINAL-URL:https://kkrovinj.hr
X-WR-CALDESC:Events for KK Rovinj - CP Rovigno
REFRESH-INTERVAL;VALUE=DURATION:PT1H
X-Robots-Tag:noindex
X-PUBLISHED-TTL:PT1H
BEGIN:VTIMEZONE
TZID:Europe/Zagreb
BEGIN:DAYLIGHT
TZOFFSETFROM:+0100
TZOFFSETTO:+0200
TZNAME:CEST
DTSTART:20250330T010000
END:DAYLIGHT
BEGIN:STANDARD
TZOFFSETFROM:+0200
TZOFFSETTO:+0100
TZNAME:CET
DTSTART:20251026T010000
END:STANDARD
END:VTIMEZONE
BEGIN:VEVENT
DTSTART;TZID=Europe/Zagreb:20250219T183000
DTEND;TZID=Europe/Zagreb:20250219T200000
DTSTAMP:20260420T002531
CREATED:20250219T143406Z
LAST-MODIFIED:20250219T143406Z
UID:5571-1739989800-1739995200@kkrovinj.hr
SUMMARY:Djevojčice U13 ::: KK Rovinj - Rovigno - ŽKK Pula
DESCRIPTION:
URL:https://kkrovinj.hr/event/djevojcice-u13-kk-rovinj-rovigno-zkk-pula/
LOCATION:Dvorana Gymnasium\, Rovinj\, Rovinj\, Croatia (Local Name: Hrvatska)
CATEGORIES:Djevojčice U13
END:VEVENT
END:VCALENDAR