BEGIN:VCALENDAR
VERSION:2.0
PRODID:-//KK Rovinj - CP Rovigno - ECPv6.9.0//NONSGML v1.0//EN
CALSCALE:GREGORIAN
METHOD:PUBLISH
X-ORIGINAL-URL:https://kkrovinj.hr
X-WR-CALDESC:Events for KK Rovinj - CP Rovigno
REFRESH-INTERVAL;VALUE=DURATION:PT1H
X-Robots-Tag:noindex
X-PUBLISHED-TTL:PT1H
BEGIN:VTIMEZONE
TZID:Europe/Zagreb
BEGIN:DAYLIGHT
TZOFFSETFROM:+0100
TZOFFSETTO:+0200
TZNAME:CEST
DTSTART:20250330T010000
END:DAYLIGHT
BEGIN:STANDARD
TZOFFSETFROM:+0200
TZOFFSETTO:+0100
TZNAME:CET
DTSTART:20251026T010000
END:STANDARD
END:VTIMEZONE
BEGIN:VEVENT
DTSTART;TZID=Europe/Zagreb:20250212T163000
DTEND;TZID=Europe/Zagreb:20250212T183000
DTSTAMP:20260420T002537
CREATED:20250128T220045Z
LAST-MODIFIED:20250128T220045Z
UID:5445-1739377800-1739385000@kkrovinj.hr
SUMMARY:Predkadeti U15 ::: KK Pula 1981 - KK Rovinj - Rovigno
DESCRIPTION:
URL:https://kkrovinj.hr/event/predkadeti-u15-kk-pula-1981-kk-rovinj-rovigno/
LOCATION:SC Pattinaggio\, Pula\, Pula\, Croatia (Local Name: Hrvatska)
CATEGORIES:Predkadeti U15
END:VEVENT
END:VCALENDAR