BEGIN:VCALENDAR
VERSION:2.0
PRODID:-//KK Rovinj - CP Rovigno - ECPv6.9.0//NONSGML v1.0//EN
CALSCALE:GREGORIAN
METHOD:PUBLISH
X-WR-CALNAME:KK Rovinj - CP Rovigno
X-ORIGINAL-URL:https://kkrovinj.hr
X-WR-CALDESC:Events for KK Rovinj - CP Rovigno
REFRESH-INTERVAL;VALUE=DURATION:PT1H
X-Robots-Tag:noindex
X-PUBLISHED-TTL:PT1H
BEGIN:VTIMEZONE
TZID:Europe/Zagreb
BEGIN:DAYLIGHT
TZOFFSETFROM:+0100
TZOFFSETTO:+0200
TZNAME:CEST
DTSTART:20250330T010000
END:DAYLIGHT
BEGIN:STANDARD
TZOFFSETFROM:+0200
TZOFFSETTO:+0100
TZNAME:CET
DTSTART:20251026T010000
END:STANDARD
END:VTIMEZONE
BEGIN:VEVENT
DTSTART;TZID=Europe/Zagreb:20250209T113000
DTEND;TZID=Europe/Zagreb:20250209T133000
DTSTAMP:20260420T002807
CREATED:20250204T222406Z
LAST-MODIFIED:20250204T222406Z
UID:5478-1739100600-1739107800@kkrovinj.hr
SUMMARY:Kadeti ZG liga ::: KK Zrinjevac 1937 - KK Rovinj - Rovigno
DESCRIPTION:
URL:https://kkrovinj.hr/event/kadeti-zg-liga-kk-zrinjevac-1937-kk-rovinj-rovigno/
LOCATION:SD I. Arapovića\, Zagreb\, Zagreb\, Croatia (Local Name: Hrvatska)
CATEGORIES:Kadeti U17
END:VEVENT
BEGIN:VEVENT
DTSTART;TZID=Europe/Zagreb:20250209T170000
DTEND;TZID=Europe/Zagreb:20250209T190000
DTSTAMP:20260420T002807
CREATED:20250204T222618Z
LAST-MODIFIED:20250204T222618Z
UID:5480-1739120400-1739127600@kkrovinj.hr
SUMMARY:Kadeti ZG liga ::: KK Jaska - KK Rovinj - Rovigno
DESCRIPTION:
URL:https://kkrovinj.hr/event/kadeti-zg-liga-kk-jaska-kk-rovinj-rovigno/
LOCATION:SŠ Jastrebarsko\, Jastrebarsko\, Jastrebarsko\, Croatia (Local Name: Hrvatska)
CATEGORIES:Kadeti U17
END:VEVENT
BEGIN:VEVENT
DTSTART;TZID=Europe/Zagreb:20250209T170000
DTEND;TZID=Europe/Zagreb:20250209T190000
DTSTAMP:20260420T002807
CREATED:20250204T222736Z
LAST-MODIFIED:20250204T222836Z
UID:5483-1739120400-1739127600@kkrovinj.hr
SUMMARY:Dječaci U13 ::: KK Rovinj - Rovigno (cure) - KK Pazin 1
DESCRIPTION:
URL:https://kkrovinj.hr/event/djecaci-u13-kk-rovinj-cure-kk-pazin-1/
LOCATION:Dvorana Gymnasium\, Rovinj\, Rovinj\, Croatia (Local Name: Hrvatska)
CATEGORIES:Dječaci U13
END:VEVENT
END:VCALENDAR