BEGIN:VCALENDAR
VERSION:2.0
PRODID:-//KK Rovinj - CP Rovigno - ECPv6.9.0//NONSGML v1.0//EN
CALSCALE:GREGORIAN
METHOD:PUBLISH
X-WR-CALNAME:KK Rovinj - CP Rovigno
X-ORIGINAL-URL:https://kkrovinj.hr
X-WR-CALDESC:Events for KK Rovinj - CP Rovigno
REFRESH-INTERVAL;VALUE=DURATION:PT1H
X-Robots-Tag:noindex
X-PUBLISHED-TTL:PT1H
BEGIN:VTIMEZONE
TZID:Europe/Zagreb
BEGIN:DAYLIGHT
TZOFFSETFROM:+0100
TZOFFSETTO:+0200
TZNAME:CEST
DTSTART:20240331T010000
END:DAYLIGHT
BEGIN:STANDARD
TZOFFSETFROM:+0200
TZOFFSETTO:+0100
TZNAME:CET
DTSTART:20241027T010000
END:STANDARD
END:VTIMEZONE
BEGIN:VEVENT
DTSTART;TZID=Europe/Zagreb:20241207T100000
DTEND;TZID=Europe/Zagreb:20241207T120000
DTSTAMP:20260419T211354
CREATED:20241206T112403Z
LAST-MODIFIED:20241206T112403Z
UID:4873-1733565600-1733572800@kkrovinj.hr
SUMMARY:U17 Kadeti   :::   KK Medulin VS KK Rovinj-Rovigno
DESCRIPTION:
URL:https://kkrovinj.hr/event/u17-kadeti-kk-medulin-vs-kk-rovinj-rovigno/
LOCATION:Medulin
CATEGORIES:Kadeti U17
END:VEVENT
BEGIN:VEVENT
DTSTART;TZID=Europe/Zagreb:20241207T100000
DTEND;TZID=Europe/Zagreb:20241207T180000
DTSTAMP:20260419T211354
CREATED:20241201T193114Z
LAST-MODIFIED:20241201T193114Z
UID:4860-1733565600-1733594400@kkrovinj.hr
SUMMARY:U11 i U9  ::: TURNIR SV. NIKOLA
DESCRIPTION:Detalji turnira bit će naknadno objavljeni. \nU11 cure: Rovinj\, Pazin\, Otočac \nU11 dečki: Rovinj\, Domžale\, Stoja \nU9: Rovinj\, Novigrad
URL:https://kkrovinj.hr/event/u11-i-u9-turnir-sv-nikola/
LOCATION:Dvorana Gymnasium\, Rovinj\, Rovinj\, Croatia (Local Name: Hrvatska)
CATEGORIES:U11 Mini basket,U11 Mini basket muški,U9
END:VEVENT
BEGIN:VEVENT
DTSTART;TZID=Europe/Zagreb:20241207T170000
DTEND;TZID=Europe/Zagreb:20241207T190000
DTSTAMP:20260419T211354
CREATED:20241202T092450Z
LAST-MODIFIED:20241205T133845Z
UID:4870-1733590800-1733598000@kkrovinj.hr
SUMMARY:Seniori   :::   KK Rovinj-Rovigno VS KK Stoja
DESCRIPTION:9. kolo A2 lige Zapad
URL:https://kkrovinj.hr/event/seniori-kk-rovinj-rovigno-vs-kk-stoja/
LOCATION:Dvorana Gymnasium\, Rovinj\, Rovinj\, Croatia (Local Name: Hrvatska)
CATEGORIES:Seniori
END:VEVENT
END:VCALENDAR