BEGIN:VCALENDAR
VERSION:2.0
PRODID:-//KK Rovinj - CP Rovigno - ECPv6.9.0//NONSGML v1.0//EN
CALSCALE:GREGORIAN
METHOD:PUBLISH
X-WR-CALNAME:KK Rovinj - CP Rovigno
X-ORIGINAL-URL:https://kkrovinj.hr
X-WR-CALDESC:Events for KK Rovinj - CP Rovigno
REFRESH-INTERVAL;VALUE=DURATION:PT1H
X-Robots-Tag:noindex
X-PUBLISHED-TTL:PT1H
BEGIN:VTIMEZONE
TZID:Europe/Zagreb
BEGIN:DAYLIGHT
TZOFFSETFROM:+0100
TZOFFSETTO:+0200
TZNAME:CEST
DTSTART:20240331T010000
END:DAYLIGHT
BEGIN:STANDARD
TZOFFSETFROM:+0200
TZOFFSETTO:+0100
TZNAME:CET
DTSTART:20241027T010000
END:STANDARD
END:VTIMEZONE
BEGIN:VEVENT
DTSTART;TZID=Europe/Zagreb:20241205T080000
DTEND;TZID=Europe/Zagreb:20241205T170000
DTSTAMP:20260419T211358
CREATED:20241201T192615Z
LAST-MODIFIED:20241201T192615Z
UID:4858-1733385600-1733418000@kkrovinj.hr
SUMMARY:U13 Djevojčice   :::   KK Oliva VS KK Rovinj-Rovigno
DESCRIPTION:Drugo kolo županijske lige dječaka u kojoj igraju i naše djevojčice
URL:https://kkrovinj.hr/event/u13-djevojcice-kk-oliva-vs-kk-rovinj-rovigno/
LOCATION:Školska dvorana Vodnjan\, Vodnjan
CATEGORIES:Djevojčice U13
END:VEVENT
END:VCALENDAR