BEGIN:VCALENDAR
VERSION:2.0
PRODID:-//KK Rovinj - CP Rovigno - ECPv6.9.0//NONSGML v1.0//EN
CALSCALE:GREGORIAN
METHOD:PUBLISH
X-ORIGINAL-URL:https://kkrovinj.hr
X-WR-CALDESC:Events for KK Rovinj - CP Rovigno
REFRESH-INTERVAL;VALUE=DURATION:PT1H
X-Robots-Tag:noindex
X-PUBLISHED-TTL:PT1H
BEGIN:VTIMEZONE
TZID:Europe/Zagreb
BEGIN:DAYLIGHT
TZOFFSETFROM:+0100
TZOFFSETTO:+0200
TZNAME:CEST
DTSTART:20240331T010000
END:DAYLIGHT
BEGIN:STANDARD
TZOFFSETFROM:+0200
TZOFFSETTO:+0100
TZNAME:CET
DTSTART:20241027T010000
END:STANDARD
END:VTIMEZONE
BEGIN:VEVENT
DTSTART;TZID=Europe/Zagreb:20241128T163000
DTEND;TZID=Europe/Zagreb:20241128T183000
DTSTAMP:20260419T193816
CREATED:20241125T162459Z
LAST-MODIFIED:20241125T162717Z
UID:4824-1732811400-1732818600@kkrovinj.hr
SUMMARY:U15 Predkadeti   :::   KK Rovinj-Rovigno VS KK Istra
DESCRIPTION:
URL:https://kkrovinj.hr/event/u15-predkadeti-kk-rovinj-rovigno-vs-kk-istra-2/
LOCATION:Dvorana Gymnasium\, Rovinj\, Rovinj\, Croatia (Local Name: Hrvatska)
CATEGORIES:Predkadeti U15
END:VEVENT
END:VCALENDAR