BEGIN:VCALENDAR
VERSION:2.0
PRODID:-//KK Rovinj - CP Rovigno - ECPv6.9.0//NONSGML v1.0//EN
CALSCALE:GREGORIAN
METHOD:PUBLISH
X-WR-CALNAME:KK Rovinj - CP Rovigno
X-ORIGINAL-URL:https://kkrovinj.hr
X-WR-CALDESC:Events for KK Rovinj - CP Rovigno
REFRESH-INTERVAL;VALUE=DURATION:PT1H
X-Robots-Tag:noindex
X-PUBLISHED-TTL:PT1H
BEGIN:VTIMEZONE
TZID:Europe/Zagreb
BEGIN:DAYLIGHT
TZOFFSETFROM:+0100
TZOFFSETTO:+0200
TZNAME:CEST
DTSTART:20240331T010000
END:DAYLIGHT
BEGIN:STANDARD
TZOFFSETFROM:+0200
TZOFFSETTO:+0100
TZNAME:CET
DTSTART:20241027T010000
END:STANDARD
END:VTIMEZONE
BEGIN:VEVENT
DTSTART;VALUE=DATE:20241124
DTEND;VALUE=DATE:20241125
DTSTAMP:20260419T193632
CREATED:20241107T170456Z
LAST-MODIFIED:20241107T170456Z
UID:4731-1732406400-1732492799@kkrovinj.hr
SUMMARY:U11 dečki :::   Memorijalni turnir "Stojan Frank" Ilirska Bistrica (SLO)
DESCRIPTION:Dečki U11 su pozvani na memorijalni turnir “Stojan Frank” koji se održava u slovenskoj Ilirskoj Bistrici
URL:https://kkrovinj.hr/event/u11-decki-memorijalni-turnir-stojan-frank-ilirska-bistrica-slo/
LOCATION:Ilirska Bistrica (SLO)
CATEGORIES:Mini basket U11 Dečki
END:VEVENT
BEGIN:VEVENT
DTSTART;TZID=Europe/Zagreb:20241124T140000
DTEND;TZID=Europe/Zagreb:20241124T160000
DTSTAMP:20260419T193632
CREATED:20241114T094328Z
LAST-MODIFIED:20241119T185415Z
UID:4809-1732456800-1732464000@kkrovinj.hr
SUMMARY:U17 Kadeti   :::   KK Krapina VS KK Rovinj-Rovigno
DESCRIPTION:
URL:https://kkrovinj.hr/event/u17-kadeti-kk-krapina-vs-kk-rovinj-rovigno/
END:VEVENT
BEGIN:VEVENT
DTSTART;TZID=Europe/Zagreb:20241124T170000
DTEND;TZID=Europe/Zagreb:20241124T190000
DTSTAMP:20260419T193632
CREATED:20241119T185830Z
LAST-MODIFIED:20241119T185830Z
UID:4816-1732467600-1732474800@kkrovinj.hr
SUMMARY:Seniori   :::   KK Šanac VS KK Rovinj-Rovigno
DESCRIPTION:7. kolo A2 lige Zapad
URL:https://kkrovinj.hr/event/seniori-kk-sanac-vs-kk-rovinj-rovigno/
LOCATION:Karlovac
CATEGORIES:Seniori
END:VEVENT
END:VCALENDAR