BEGIN:VCALENDAR
VERSION:2.0
PRODID:-//KK Rovinj - CP Rovigno - ECPv6.9.0//NONSGML v1.0//EN
CALSCALE:GREGORIAN
METHOD:PUBLISH
X-ORIGINAL-URL:https://kkrovinj.hr
X-WR-CALDESC:Events for KK Rovinj - CP Rovigno
REFRESH-INTERVAL;VALUE=DURATION:PT1H
X-Robots-Tag:noindex
X-PUBLISHED-TTL:PT1H
BEGIN:VTIMEZONE
TZID:Europe/Zagreb
BEGIN:DAYLIGHT
TZOFFSETFROM:+0100
TZOFFSETTO:+0200
TZNAME:CEST
DTSTART:20240331T010000
END:DAYLIGHT
BEGIN:STANDARD
TZOFFSETFROM:+0200
TZOFFSETTO:+0100
TZNAME:CET
DTSTART:20241027T010000
END:STANDARD
END:VTIMEZONE
BEGIN:VEVENT
DTSTART;TZID=Europe/Zagreb:20241123T093000
DTEND;TZID=Europe/Zagreb:20241123T113000
DTSTAMP:20260419T193838
CREATED:20241110T110126Z
LAST-MODIFIED:20241119T184910Z
UID:4765-1732354200-1732361400@kkrovinj.hr
SUMMARY:U13 Dječaci  :::  KK Pazin cure VS KK Rovinj-Rovigno
DESCRIPTION:
URL:https://kkrovinj.hr/event/u13-djecaci-kk-pazin-cure-vs-kk-rovinj-rovigno/
LOCATION:ŠGSD Pazin\, Pazin\, Pazin\, Croatia (Local Name: Hrvatska)
CATEGORIES:Dječaci U13
END:VEVENT
BEGIN:VEVENT
DTSTART;TZID=Europe/Zagreb:20241123T100000
DTEND;TZID=Europe/Zagreb:20241123T120000
DTSTAMP:20260419T193838
CREATED:20241114T093939Z
LAST-MODIFIED:20241114T093939Z
UID:4805-1732356000-1732363200@kkrovinj.hr
SUMMARY:U17 Kadeti   :::   KK Karlovac VS KK Rovinj-Rovigno
DESCRIPTION:U17 Predkadeti nastavljaju svoje prvenstvo u zagrebačkoj ligi.
URL:https://kkrovinj.hr/event/u17-kadeti-kk-karlovac-vs-kk-rovinj-rovigno/
CATEGORIES:Kadeti U17
END:VEVENT
BEGIN:VEVENT
DTSTART;TZID=Europe/Zagreb:20241123T143000
DTEND;TZID=Europe/Zagreb:20241123T163000
DTSTAMP:20260419T193838
CREATED:20241114T094159Z
LAST-MODIFIED:20241119T185150Z
UID:4807-1732372200-1732379400@kkrovinj.hr
SUMMARY:U17 Kadeti   :::   KK Duga Resa VS KK Rovinj-Rovigno
DESCRIPTION:
URL:https://kkrovinj.hr/event/u17-kadeti-kk-duga-resa-vs-kk-rovinj-rovigno/
END:VEVENT
BEGIN:VEVENT
DTSTART;TZID=Europe/Zagreb:20241123T150000
DTEND;TZID=Europe/Zagreb:20241123T170000
DTSTAMP:20260419T193838
CREATED:20241110T105919Z
LAST-MODIFIED:20241119T184818Z
UID:4763-1732374000-1732381200@kkrovinj.hr
SUMMARY:U13 Djevojčice  :::   KK Rovinj-Rovigno VS KK Umag
DESCRIPTION:Djevojčice U13 igraju 2. kolo županijske lige dječaka
URL:https://kkrovinj.hr/event/u13-djevojcice-kk-rovinj-rovigno-vs-kk-umag/
LOCATION:Dvorana Valbruna Rovinj
CATEGORIES:Dječaci U13
ORGANIZER;CN="KK Rovinj-Rovigno":MAILTO:info@kkrovinj.hr
END:VEVENT
END:VCALENDAR