BEGIN:VCALENDAR
VERSION:2.0
PRODID:-//KK Rovinj - CP Rovigno - ECPv6.9.0//NONSGML v1.0//EN
CALSCALE:GREGORIAN
METHOD:PUBLISH
X-WR-CALNAME:KK Rovinj - CP Rovigno
X-ORIGINAL-URL:https://kkrovinj.hr
X-WR-CALDESC:Events for KK Rovinj - CP Rovigno
REFRESH-INTERVAL;VALUE=DURATION:PT1H
X-Robots-Tag:noindex
X-PUBLISHED-TTL:PT1H
BEGIN:VTIMEZONE
TZID:Europe/Zagreb
BEGIN:DAYLIGHT
TZOFFSETFROM:+0100
TZOFFSETTO:+0200
TZNAME:CEST
DTSTART:20240331T010000
END:DAYLIGHT
BEGIN:STANDARD
TZOFFSETFROM:+0200
TZOFFSETTO:+0100
TZNAME:CET
DTSTART:20241027T010000
END:STANDARD
END:VTIMEZONE
BEGIN:VEVENT
DTSTART;TZID=Europe/Zagreb:20241116T100000
DTEND;TZID=Europe/Zagreb:20241116T120000
DTSTAMP:20260419T193625
CREATED:20241110T095529Z
LAST-MODIFIED:20241110T095529Z
UID:4756-1731751200-1731758400@kkrovinj.hr
SUMMARY:U13 Dječaci  :::  KK Oliva VS KK Rovinj-Rovigno
DESCRIPTION:U13 dječaci igraju prvo kolo županijske lige dječaka
URL:https://kkrovinj.hr/event/u13-djecaci-kk-oliva-vs-kk-rovinj-rovigno/
LOCATION:Školska dvorana Vodnjan\, Vodnjan
CATEGORIES:Dječaci U13
END:VEVENT
BEGIN:VEVENT
DTSTART;TZID=Europe/Zagreb:20241116T140000
DTEND;TZID=Europe/Zagreb:20241116T160000
DTSTAMP:20260419T193625
CREATED:20241110T095736Z
LAST-MODIFIED:20241112T145310Z
UID:4759-1731765600-1731772800@kkrovinj.hr
SUMMARY:U17 Kadeti  :::  KK Rovinj-Rovigno VS KK Medulin
DESCRIPTION:
URL:https://kkrovinj.hr/event/u17-kadeti-kk-rovinj-rovigno-vs-kk-medulin/
LOCATION:Dvorana Gymnasium\, Rovinj\, Rovinj\, Croatia (Local Name: Hrvatska)
END:VEVENT
END:VCALENDAR