BEGIN:VCALENDAR
VERSION:2.0
PRODID:-//KK Rovinj - CP Rovigno - ECPv6.9.0//NONSGML v1.0//EN
CALSCALE:GREGORIAN
METHOD:PUBLISH
X-WR-CALNAME:KK Rovinj - CP Rovigno
X-ORIGINAL-URL:https://kkrovinj.hr
X-WR-CALDESC:Events for KK Rovinj - CP Rovigno
REFRESH-INTERVAL;VALUE=DURATION:PT1H
X-Robots-Tag:noindex
X-PUBLISHED-TTL:PT1H
BEGIN:VTIMEZONE
TZID:Europe/Zagreb
BEGIN:DAYLIGHT
TZOFFSETFROM:+0100
TZOFFSETTO:+0200
TZNAME:CEST
DTSTART:20240331T010000
END:DAYLIGHT
BEGIN:STANDARD
TZOFFSETFROM:+0200
TZOFFSETTO:+0100
TZNAME:CET
DTSTART:20241027T010000
END:STANDARD
END:VTIMEZONE
BEGIN:VEVENT
DTSTART;TZID=Europe/Zagreb:20241114T203000
DTEND;TZID=Europe/Zagreb:20241114T223000
DTSTAMP:20260419T193645
CREATED:20241111T094840Z
LAST-MODIFIED:20241111T094840Z
UID:4781-1731616200-1731623400@kkrovinj.hr
SUMMARY:Seniori   :::   KK Rovinj-Rovigno VS KK Rudar
DESCRIPTION:Seniori igraju 6. kolo A2 lige regija Zapad.
URL:https://kkrovinj.hr/event/seniori-kk-rovinj-rovigno-vs-kk-rudar/
LOCATION:Dvorana Gymnasium\, Rovinj\, Rovinj\, Croatia (Local Name: Hrvatska)
CATEGORIES:Seniori
ORGANIZER;CN="KK Rovinj-Rovigno":MAILTO:info@kkrovinj.hr
END:VEVENT
END:VCALENDAR