BEGIN:VCALENDAR
VERSION:2.0
PRODID:-//KK Rovinj - CP Rovigno - ECPv6.9.0//NONSGML v1.0//EN
CALSCALE:GREGORIAN
METHOD:PUBLISH
X-ORIGINAL-URL:https://kkrovinj.hr
X-WR-CALDESC:Events for KK Rovinj - CP Rovigno
REFRESH-INTERVAL;VALUE=DURATION:PT1H
X-Robots-Tag:noindex
X-PUBLISHED-TTL:PT1H
BEGIN:VTIMEZONE
TZID:Europe/Zagreb
BEGIN:DAYLIGHT
TZOFFSETFROM:+0100
TZOFFSETTO:+0200
TZNAME:CEST
DTSTART:20240331T010000
END:DAYLIGHT
BEGIN:STANDARD
TZOFFSETFROM:+0200
TZOFFSETTO:+0100
TZNAME:CET
DTSTART:20241027T010000
END:STANDARD
END:VTIMEZONE
BEGIN:VEVENT
DTSTART;VALUE=DATE:20241110
DTEND;VALUE=DATE:20241111
DTSTAMP:20260419T193838
CREATED:20241107T134720Z
LAST-MODIFIED:20241107T134720Z
UID:4649-1731196800-1731283199@kkrovinj.hr
SUMMARY:U12 Djevojčice  :::  International Divas tournament\, Ilirska Bistrica (SLO)
DESCRIPTION:Međunarodni turnir za djevijčice do 12 godina u Sloveniji\, u Ilirskoj Bistrici
URL:https://kkrovinj.hr/event/u12-djevojcice-international-divas-tournament-ilirska-bistrica-slo/
LOCATION:Ilirska Bistrica (SLO)
CATEGORIES:Djevojčice U12
END:VEVENT
BEGIN:VEVENT
DTSTART;TZID=Europe/Zagreb:20241110T130000
DTEND;TZID=Europe/Zagreb:20241110T150000
DTSTAMP:20260419T193838
CREATED:20241107T134051Z
LAST-MODIFIED:20241107T134051Z
UID:4644-1731243600-1731250800@kkrovinj.hr
SUMMARY:U17 Kadeti :::   KK Peritnja VS KK Rovinj-Rovigno
DESCRIPTION:kolo 4. zagrebačke lige za Kadete
URL:https://kkrovinj.hr/event/u17-kadeti-kk-peritnja-vs-kk-rovinj-rovigno/
LOCATION:Petrinja
CATEGORIES:Kadeti U17
END:VEVENT
BEGIN:VEVENT
DTSTART;TZID=Europe/Zagreb:20241110T170000
DTEND;TZID=Europe/Zagreb:20241110T190000
DTSTAMP:20260419T193838
CREATED:20241107T134301Z
LAST-MODIFIED:20241107T134301Z
UID:4647-1731258000-1731265200@kkrovinj.hr
SUMMARY:U17 Kadeti :::   KK Sisak VS KK Rovinj-Rovigno
DESCRIPTION:2. kolo 4.zagrebačke lige Kadeta
URL:https://kkrovinj.hr/event/u17-kadeti-kk-sisak-vs-kk-rovinj-rovigno/
CATEGORIES:Kadeti U17
END:VEVENT
END:VCALENDAR